BEGIN:VCALENDAR
VERSION:2.0
PRODID:-//wp-events-plugin.com//7.2.2.1//EN
TZID:Europe/Paris
X-WR-TIMEZONE:Europe/Paris
BEGIN:VEVENT
UID:79@mairieneuvy.fr
DTSTART;TZID=Europe/Paris:20241006T080000
DTEND;TZID=Europe/Paris:20241006T180000
DTSTAMP:20240909T072822Z
URL:https://www.mairieneuvy.fr/events/kids-neuvyssois-brocante/
SUMMARY:KIDS NEUVYSSOIS - BROCANTE
DESCRIPTION:\nLes Kids Neuvyssois organisent la Brocante des Kids\n\n\n\nDi
 manche 06 octobre 2024 de 08h à 18h\n\n\n\nSalle polyvalente de Neuvy\n\n
 \n\nArticles de puériculture\, jeux \, vêtements enfants\, .....\n\n\n\n
 3€ la table en intérieur ou 2.50€ le mètre linéaire en extérieur\n
 \n\n\nBuvette et restauration sur place\n\n\n\nRenseignements et inscripti
 ons au 06.72.89.22.96 ou 06.85.95.93.23\n
ATTACH;FMTTYPE=image/jpeg:https://www.mairieneuvy.fr/wp-content/uploads/20
 24/09/Copie-de-Affiche-Evenement-Fete-de-lEcole-Moderne-Festif-Illustre-Co
 lore_20240906_114530_0000_page-0001.jpg
END:VEVENT
BEGIN:VTIMEZONE
TZID:Europe/Paris
X-LIC-LOCATION:Europe/Paris
BEGIN:DAYLIGHT
DTSTART:20240331T030000
TZOFFSETFROM:+0100
TZOFFSETTO:+0200
TZNAME:CEST
END:DAYLIGHT
END:VTIMEZONE
END:VCALENDAR