BEGIN:VCALENDAR
VERSION:2.0
PRODID:-//wp-events-plugin.com//7.2.2.1//EN
TZID:Europe/Paris
X-WR-TIMEZONE:Europe/Paris
BEGIN:VEVENT
UID:78@mairieneuvy.fr
DTSTART;TZID=Europe/Paris:20240907T140000
DTEND;TZID=Europe/Paris:20240907T170000
DTSTAMP:20240826T140334Z
URL:https://www.mairieneuvy.fr/events/ccas-jeux-de-societe-forum-des-assoc
 iations/
SUMMARY:CCAS - JEUX DE SOCIÉTÉ + FORUM DES ASSOCIATIONS
DESCRIPTION:\nSAMEDI 7 SEPTEMBRE 2024 \n\n\n\nOrganisation d'un après-midi
  Jeux de société à la salle annexe de 14h à 17h par le CCAS de Neuvy\n
 \n\n\nAinsi que le forum des Associations à la salle polyvalente à parti
 r de 14h.\n\n\n\n\n
ATTACH;FMTTYPE=image/jpeg:https://www.mairieneuvy.fr/wp-content/uploads/20
 24/08/AFFICHE-SEPT-2024_page-0001.jpg
END:VEVENT
BEGIN:VTIMEZONE
TZID:Europe/Paris
X-LIC-LOCATION:Europe/Paris
BEGIN:DAYLIGHT
DTSTART:20240331T030000
TZOFFSETFROM:+0100
TZOFFSETTO:+0200
TZNAME:CEST
END:DAYLIGHT
END:VTIMEZONE
END:VCALENDAR