BEGIN:VCALENDAR
VERSION:2.0
PRODID:-//wp-events-plugin.com//7.2.2.1//EN
TZID:Europe/Paris
X-WR-TIMEZONE:Europe/Paris
BEGIN:VEVENT
UID:57@mairieneuvy.fr
DTSTART;TZID=Europe/Paris:20240416T100000
DTEND;TZID=Europe/Paris:20240419T163000
DTSTAMP:20240327T101012Z
URL:https://www.mairieneuvy.fr/events/catamarrant-ateliers-theatre-enfants
 /
SUMMARY:CATA'MARRANT - ATELIERS THÉÂTRE ENFANTS
DESCRIPTION:\nLa troupe de théâtre CATA'MARRANT organise des ateliers th
 éâtre pour les enfants de 8 à 18 ans\n\n\n\nDu mardi 16 au vendredi 19 
 avril 2024 de 10h à 12 et de 14h à 16h30\n\n\n\nSalle polyvalente de Neu
 vy\n\n\n\nAteliers gratuits\n\n\n\nRenseignements et inscriptions obligato
 ires au 06.07.01.69.52 avant le 12 avril\n
ATTACH;FMTTYPE=image/jpeg:https://www.mairieneuvy.fr/wp-content/uploads/20
 24/03/pub-theatre-enfants-jaune-intra.jpg
END:VEVENT
BEGIN:VTIMEZONE
TZID:Europe/Paris
X-LIC-LOCATION:Europe/Paris
BEGIN:DAYLIGHT
DTSTART:20240331T030000
TZOFFSETFROM:+0100
TZOFFSETTO:+0200
TZNAME:CEST
END:DAYLIGHT
END:VTIMEZONE
END:VCALENDAR